BEGIN:VCALENDAR
VERSION:2.0
PRODID:-//Melbourne Madness - ECPv4.9.12//NONSGML v1.0//EN
CALSCALE:GREGORIAN
METHOD:PUBLISH
X-WR-CALNAME:Melbourne Madness
X-ORIGINAL-URL:https://melbournemadness.net
X-WR-CALDESC:Events for Melbourne Madness
BEGIN:VTIMEZONE
TZID:UTC
BEGIN:STANDARD
TZOFFSETFROM:+0000
TZOFFSETTO:+0000
TZNAME:UTC
DTSTART:20170101T000000
END:STANDARD
END:VTIMEZONE
BEGIN:VEVENT
DTSTART;TZID=UTC:20170412T180000
DTEND;TZID=UTC:20170412T200000
DTSTAMP:20260423T110954
CREATED:20170328T032838Z
LAST-MODIFIED:20170328T032838Z
UID:1778-1492020000-1492027200@melbournemadness.net
SUMMARY:Longbeach Hotel
DESCRIPTION:\n\nCome on adventure with Charlie SillyPants!  \nYou’re all invited on the silliest adventure this side of Magicland!!! Charlie SillyPants is taking everyone on a mad cap\, high energy adventure full of crazy magic tricks\, funny music\, silly games and lots of laughter and total silliness. With surfing teddy bears\, cheeky rabbits\, invisible dogs and a very mischievous Invisible man this is by far the most awesome adventure for all kids! \n\n\n
URL:https://melbournemadness.net/show/longbeach-hotel/
LOCATION:Longbeach Hotel\, 380 Nepean Hwy\, Chelsea\, VIC\, 3196\, Australia
ATTACH;FMTTYPE=image/png:https://melbournemadness.net/wp-content/uploads/2015/04/magicland.png
GEO:-38.050811;145.1152285
X-APPLE-STRUCTURED-LOCATION;VALUE=URI;X-ADDRESS=Longbeach Hotel 380 Nepean Hwy Chelsea VIC 3196 Australia;X-APPLE-RADIUS=500;X-TITLE=380 Nepean Hwy:geo:145.1152285,-38.050811
END:VEVENT
END:VCALENDAR