BEGIN:VCALENDAR
VERSION:2.0
PRODID:-//Melbourne Madness - ECPv4.9.12//NONSGML v1.0//EN
CALSCALE:GREGORIAN
METHOD:PUBLISH
X-WR-CALNAME:Melbourne Madness
X-ORIGINAL-URL:https://melbournemadness.net
X-WR-CALDESC:Events for Melbourne Madness
BEGIN:VTIMEZONE
TZID:UTC
BEGIN:STANDARD
TZOFFSETFROM:+0000
TZOFFSETTO:+0000
TZNAME:UTC
DTSTART:20150101T000000
END:STANDARD
END:VTIMEZONE
BEGIN:VEVENT
DTSTART;TZID=UTC:20150401T080000
DTEND;TZID=UTC:20150401T170000
DTSTAMP:20260423T170818
CREATED:20150401T022825Z
LAST-MODIFIED:20150401T022825Z
UID:727-1427875200-1427907600@melbournemadness.net
SUMMARY:Monash Hotel
DESCRIPTION:
URL:https://melbournemadness.net/show/monash-hotel/
END:VEVENT
END:VCALENDAR