BEGIN:VCALENDAR
VERSION:2.0
PRODID:-//Melbourne Madness - ECPv4.9.12//NONSGML v1.0//EN
CALSCALE:GREGORIAN
METHOD:PUBLISH
X-WR-CALNAME:Melbourne Madness
X-ORIGINAL-URL:https://melbournemadness.net
X-WR-CALDESC:Events for Melbourne Madness
BEGIN:VTIMEZONE
TZID:UTC
BEGIN:STANDARD
TZOFFSETFROM:+0000
TZOFFSETTO:+0000
TZNAME:UTC
DTSTART:20160101T000000
END:STANDARD
END:VTIMEZONE
BEGIN:VEVENT
DTSTART;TZID=UTC:20160716T180000
DTEND;TZID=UTC:20160716T200000
DTSTAMP:20260423T111455
CREATED:20160421T041220Z
LAST-MODIFIED:20160421T042740Z
UID:1444-1468692000-1468699200@melbournemadness.net
SUMMARY:Ranalagh Club
DESCRIPTION:Come along for a mad cap evening of magic\, games\, laughter and total silliness. From surfing teddy bears to catching an invisible man this is by far the most awesome place to be for all kids. Book early to avoid disappointment! \n
URL:https://melbournemadness.net/show/ranalagh-club-2016-07-21/
LOCATION:Ranalagh Club\, 3 Rosserdale Cres\, Mount Eliza\, 3196\, Australia
ATTACH;FMTTYPE=image/png:https://melbournemadness.net/wp-content/uploads/2015/04/magicland.png
GEO:-38.17677;145.078745
X-APPLE-STRUCTURED-LOCATION;VALUE=URI;X-ADDRESS=Ranalagh Club 3 Rosserdale Cres Mount Eliza 3196 Australia;X-APPLE-RADIUS=500;X-TITLE=3 Rosserdale Cres:geo:145.078745,-38.17677
END:VEVENT
END:VCALENDAR