BEGIN:VCALENDAR
VERSION:2.0
PRODID:-//Melbourne Madness - ECPv4.9.12//NONSGML v1.0//EN
CALSCALE:GREGORIAN
METHOD:PUBLISH
X-WR-CALNAME:Melbourne Madness
X-ORIGINAL-URL:https://melbournemadness.net
X-WR-CALDESC:Events for Melbourne Madness
BEGIN:VTIMEZONE
TZID:UTC
BEGIN:STANDARD
TZOFFSETFROM:+0000
TZOFFSETTO:+0000
TZNAME:UTC
DTSTART:20160101T000000
END:STANDARD
END:VTIMEZONE
BEGIN:VEVENT
DTSTART;TZID=UTC:20160627T120000
DTEND;TZID=UTC:20160627T130000
DTSTAMP:20260423T123720
CREATED:20160622T033254Z
LAST-MODIFIED:20160622T033300Z
UID:1521-1467028800-1467032400@melbournemadness.net
SUMMARY:Sandbelt Hotel
DESCRIPTION:Come along for a mad cap adventure of magic\, games\, laughter and total silliness. From surfing teddy bears to catching an invisible man this is by far the most awesome place to be for all kids. Book early to avoid disappointment! \n
URL:https://melbournemadness.net/show/sandbelt-hotel/
LOCATION:Sandbelt Hotel\, Crn South & Bignells Rd\, Moorabin\, VIC\, 3189\, Australia
ATTACH;FMTTYPE=image/png:https://melbournemadness.net/wp-content/uploads/2015/04/magicland.png
GEO:-37.9374788;145.0685598
X-APPLE-STRUCTURED-LOCATION;VALUE=URI;X-ADDRESS=Sandbelt Hotel Crn South & Bignells Rd Moorabin VIC 3189 Australia;X-APPLE-RADIUS=500;X-TITLE=Crn South & Bignells Rd:geo:145.0685598,-37.9374788
END:VEVENT
END:VCALENDAR