BEGIN:VCALENDAR
VERSION:2.0
PRODID:-//Melbourne Madness - ECPv4.9.12//NONSGML v1.0//EN
CALSCALE:GREGORIAN
METHOD:PUBLISH
X-WR-CALNAME:Melbourne Madness
X-ORIGINAL-URL:https://melbournemadness.net
X-WR-CALDESC:Events for Melbourne Madness
BEGIN:VTIMEZONE
TZID:Australia/Melbourne
BEGIN:STANDARD
TZOFFSETFROM:+1100
TZOFFSETTO:+1000
TZNAME:AEST
DTSTART:20190406T160000
END:STANDARD
BEGIN:DAYLIGHT
TZOFFSETFROM:+1000
TZOFFSETTO:+1100
TZNAME:AEDT
DTSTART:20191005T160000
END:DAYLIGHT
END:VTIMEZONE
BEGIN:VEVENT
DTSTART;TZID=Australia/Melbourne:20190502T180000
DTEND;TZID=Australia/Melbourne:20190502T193000
DTSTAMP:20260421T065743
CREATED:20190429T044955Z
LAST-MODIFIED:20190429T044955Z
UID:3049-1556820000-1556825400@melbournemadness.net
SUMMARY:Sandown Park Hotel
DESCRIPTION:Come along for a mad cap evening of magic\, games\, laughter and total silliness. From surfing teddy bears to catching an invisible man this is by far the most awesome place to be for all kids. Book early to avoid disappointment! \n
URL:https://melbournemadness.net/show/sandown-park-hotel/2019-05-02/
LOCATION:Sandown Park Hotel\, Corrigan Road\, Noble Park\, VIC\, 3174\, Australia
ATTACH;FMTTYPE=image/png:https://melbournemadness.net/wp-content/uploads/2015/04/magicland.png
END:VEVENT
END:VCALENDAR