BEGIN:VCALENDAR
VERSION:2.0
PRODID:-//Melbourne Madness - ECPv4.9.12//NONSGML v1.0//EN
CALSCALE:GREGORIAN
METHOD:PUBLISH
X-WR-CALNAME:Melbourne Madness
X-ORIGINAL-URL:https://melbournemadness.net
X-WR-CALDESC:Events for Melbourne Madness
BEGIN:VTIMEZONE
TZID:Africa/Abidjan
BEGIN:STANDARD
TZOFFSETFROM:+0000
TZOFFSETTO:+0000
TZNAME:GMT
DTSTART:20160101T000000
END:STANDARD
END:VTIMEZONE
BEGIN:VEVENT
DTSTART;TZID=Africa/Abidjan:20160813T183000
DTEND;TZID=Africa/Abidjan:20160813T203000
DTSTAMP:20260423T111439
CREATED:20160420T070133Z
LAST-MODIFIED:20160727T035459Z
UID:1439-1471113000-1471120200@melbournemadness.net
SUMMARY:Shoppingtown Hotel Doncaster
DESCRIPTION:Come along for a mad cap evening of magic\, games\, laughter and total silliness. From surfing teddy bears to catching an invisible man this is by far the most awesome place to be for all kids. Book early to avoid disappointment! \n
URL:https://melbournemadness.net/show/shoppingtown-hotel-doncaster-7/
LOCATION:Shoppingtown Hotel Doncaster\, 19 Williamsons Road\, Doncaster\, VIC\, 3108\, Australia
ATTACH;FMTTYPE=image/png:https://melbournemadness.net/wp-content/uploads/2015/04/magicland.png
GEO:-37.7847385;145.1242289
X-APPLE-STRUCTURED-LOCATION;VALUE=URI;X-ADDRESS=Shoppingtown Hotel Doncaster 19 Williamsons Road Doncaster VIC 3108 Australia;X-APPLE-RADIUS=500;X-TITLE=19 Williamsons Road:geo:145.1242289,-37.7847385
END:VEVENT
END:VCALENDAR