BEGIN:VCALENDAR
VERSION:2.0
PRODID:-//Melbourne Madness - ECPv4.9.12//NONSGML v1.0//EN
CALSCALE:GREGORIAN
METHOD:PUBLISH
X-WR-CALNAME:Melbourne Madness
X-ORIGINAL-URL:https://melbournemadness.net
X-WR-CALDESC:Events for Melbourne Madness
BEGIN:VTIMEZONE
TZID:UTC
BEGIN:STANDARD
TZOFFSETFROM:+0000
TZOFFSETTO:+0000
TZNAME:UTC
DTSTART:20150101T000000
END:STANDARD
END:VTIMEZONE
BEGIN:VEVENT
DTSTART;TZID=UTC:20150930T180000
DTEND;TZID=UTC:20150930T200000
DTSTAMP:20260423T141540
CREATED:20150731T040229Z
LAST-MODIFIED:20150916T051454Z
UID:824-1443636000-1443643200@melbournemadness.net
SUMMARY:Stamford Inn Hotel Rowville
DESCRIPTION:Come along for a mad cap evening of magic\, games\, laughter and total silliness. From surfing teddy bears to catching an invisible man this is by far the most awesome place to be for all kids. Book early to avoid disappointment! \n
URL:https://melbournemadness.net/show/stamford-inn-hotel-rowville-3/
ATTACH;FMTTYPE=image/png:https://melbournemadness.net/wp-content/uploads/2015/04/magicland.png
END:VEVENT
END:VCALENDAR