BEGIN:VCALENDAR
VERSION:2.0
PRODID:-//Melbourne Madness - ECPv4.9.12//NONSGML v1.0//EN
CALSCALE:GREGORIAN
METHOD:PUBLISH
X-WR-CALNAME:Melbourne Madness
X-ORIGINAL-URL:https://melbournemadness.net
X-WR-CALDESC:Events for Melbourne Madness
BEGIN:VTIMEZONE
TZID:UTC
BEGIN:STANDARD
TZOFFSETFROM:+0000
TZOFFSETTO:+0000
TZNAME:UTC
DTSTART:20170101T000000
END:STANDARD
END:VTIMEZONE
BEGIN:VEVENT
DTSTART;TZID=UTC:20170701T113000
DTEND;TZID=UTC:20170709T143000
DTSTAMP:20260423T111606
CREATED:20170629T043936Z
LAST-MODIFIED:20170629T044227Z
UID:1837-1498908600-1499610600@melbournemadness.net
SUMMARY:The Big Freeze Festival
DESCRIPTION:Charlie Silly Pants and the Invisible Snowball \nCharlie SillyPants is about to go on the adventure of a lifetime with  his “Magic Snowball”\, but there’s a problem! Charlie’s cheeky friend Mr Invisible has\, well ruined it and it’s “Invisible”!!! Come on the adventure with Charlie SillyPant’s as he encounter’s flying Teddy Bears\, cheeky snow dogs and lots of crazy characters on this fun-packed silly adventure. Charlie will need lots of magic dust from the children to help him go on his crazy quest. So get your silly magic ready as we try to find the “Invisible Snowball”! Charlie Silly Pants and the Invisible Snowball \nShows 11.45 & 1.30pm Daily ( Tickets essential please book through the Big Freeze Website ) \n
URL:https://melbournemadness.net/show/the-big-freeze-festival/
LOCATION:Fountain Gate Shopping Centre\, Brechin Drive\, Brechin Drive\, Fountain Gate\, vic\, 3805\, Australia
ATTACH;FMTTYPE=image/jpeg:https://melbournemadness.net/wp-content/uploads/2017/06/stage.jpg
GEO:-38.0221888;145.3043767
X-APPLE-STRUCTURED-LOCATION;VALUE=URI;X-ADDRESS=Fountain Gate Shopping Centre Brechin Drive Brechin Drive Fountain Gate vic 3805 Australia;X-APPLE-RADIUS=500;X-TITLE=Brechin Drive\, Fountain Gate:geo:145.3043767,-38.0221888
END:VEVENT
END:VCALENDAR